BEGIN:VCALENDAR
VERSION:2.0
PRODID:-//Rebekah&#039;s Health and Nutrition - ECPv6.15.20//NONSGML v1.0//EN
CALSCALE:GREGORIAN
METHOD:PUBLISH
X-WR-CALNAME:Rebekah&#039;s Health and Nutrition
X-ORIGINAL-URL:https://rebekahspureliving.com
X-WR-CALDESC:Events for Rebekah&#039;s Health and Nutrition
REFRESH-INTERVAL;VALUE=DURATION:PT1H
X-Robots-Tag:noindex
X-PUBLISHED-TTL:PT1H
BEGIN:VTIMEZONE
TZID:America/Detroit
BEGIN:DAYLIGHT
TZOFFSETFROM:-0500
TZOFFSETTO:-0400
TZNAME:EDT
DTSTART:20240310T070000
END:DAYLIGHT
BEGIN:STANDARD
TZOFFSETFROM:-0400
TZOFFSETTO:-0500
TZNAME:EST
DTSTART:20241103T060000
END:STANDARD
BEGIN:DAYLIGHT
TZOFFSETFROM:-0500
TZOFFSETTO:-0400
TZNAME:EDT
DTSTART:20250309T070000
END:DAYLIGHT
BEGIN:STANDARD
TZOFFSETFROM:-0400
TZOFFSETTO:-0500
TZNAME:EST
DTSTART:20251102T060000
END:STANDARD
BEGIN:DAYLIGHT
TZOFFSETFROM:-0500
TZOFFSETTO:-0400
TZNAME:EDT
DTSTART:20260308T070000
END:DAYLIGHT
BEGIN:STANDARD
TZOFFSETFROM:-0400
TZOFFSETTO:-0500
TZNAME:EST
DTSTART:20261101T060000
END:STANDARD
END:VTIMEZONE
BEGIN:VEVENT
DTSTART;TZID=America/Detroit:20251021T170000
DTEND;TZID=America/Detroit:20251021T180000
DTSTAMP:20260421T192203
CREATED:20251011T171721Z
LAST-MODIFIED:20251011T171721Z
UID:1477766-1761066000-1761069600@rebekahspureliving.com
SUMMARY:Love Your Heart- Lapeer
DESCRIPTION:❤️ All You Need Is Love… For Your Heart Health!\nJoin us for an engaging and educational evening with Health Expert Aaron Wallace as he explores the science behind improving heart health naturally and holistically. \nThis class will help you understand the root causes of cardiovascular issues and provide actionable strategies to strengthen and support your heart. Aaron’s mission is to empower you with practical tools that can make a meaningful difference in your energy\, circulation\, and overall well-being. \n💚 What You’ll Learn: \n\n\nThe underlying causes of common heart and circulation concerns \n\n\nNatural ways to improve energy\, stamina\, and heart resilience \n\n\nLifestyle and nutritional strategies to support cardiovascular function \n\n\nHow to strengthen your heart and live a longer\, healthier life \n\n\nAaron’s interactive and approachable teaching style makes this class both informative and inspiring.One attendee shared: \n\n“The techniques from Aaron helped me improve my stamina and overall quality of life.” – Dave U. \n\n💚 Special Offer:All attendees will receive 10% off their total purchase after the class as our way of saying thank you for investing in your health! \n📍 Rebekah’s Health & Nutrition – Lapeer588 S Main St\, Lapeer\, MI 48446 \n🗓 Tuesday\, October 21st | 5:00 PM – 6:00 PM📞 Call (810) 866-4642 to register \nTake the first step toward a stronger heart and a healthier you — your heart will thank you! ❤️
URL:https://rebekahspureliving.com/event/love-your-heart-lapeer/
LOCATION:Rebekahs Health and Nutrition/Lapeer\, 588 S Main Street\, Lapeer\, MI\, 48446\, United States
CATEGORIES:Lapeer
ATTACH;FMTTYPE=image/jpeg:https://rebekahspureliving.com/wp-content/uploads/2025/10/af2b028a-5eee-4cea-99dd-e1f61742b41f.jpg
ORGANIZER;CN="Rebekah's Pure Living":MAILTO:rebekahspureliving@gmail.com
END:VEVENT
END:VCALENDAR