BEGIN:VCALENDAR
VERSION:2.0
PRODID:-//Rebekah&#039;s Health and Nutrition - ECPv6.15.20//NONSGML v1.0//EN
CALSCALE:GREGORIAN
METHOD:PUBLISH
X-WR-CALNAME:Rebekah&#039;s Health and Nutrition
X-ORIGINAL-URL:https://rebekahspureliving.com
X-WR-CALDESC:Events for Rebekah&#039;s Health and Nutrition
REFRESH-INTERVAL;VALUE=DURATION:PT1H
X-Robots-Tag:noindex
X-PUBLISHED-TTL:PT1H
BEGIN:VTIMEZONE
TZID:UTC
BEGIN:STANDARD
TZOFFSETFROM:+0000
TZOFFSETTO:+0000
TZNAME:UTC
DTSTART:20230101T000000
END:STANDARD
END:VTIMEZONE
BEGIN:VEVENT
DTSTART;TZID=UTC:20241023T180000
DTEND;TZID=UTC:20241023T190000
DTSTAMP:20260420T214928
CREATED:20240913T194308Z
LAST-MODIFIED:20240913T194623Z
UID:1476099-1729706400-1729710000@rebekahspureliving.com
SUMMARY:Honey Tasting with Mark Spencer
DESCRIPTION:Explore the World of Beekeeping with Mark Spencer\n\nJoin us for an engaging and educational hour with Mark Spencer\, a seasoned beekeeper and owner of Spencer’s Apiaries\, LLC. Dive into the fascinating world of honeybees and discover the myriad gifts the hive has to offer.\n\nThis session will include:\nAn interactive honey tasting experience.\n\nTaste 5 different Honeys and fresh local honey off the comb.\n\nIn-depth education on bee hives and their importance.\n\nA chance to view a live display hive up close.\n\nSample Mead.. plain and cherry!\n\nThis is a fantastic opportunity to learn from an expert\, ask all your beekeeping questions\, and gain a deeper appreciation for these incredible pollinators.\nAbout Mark Spencer:\nMark Spencer is a full-time beekeeper\, the Vice President of Seven Ponds Bee Club\, and an instructor at the SEMBA Bee School. His extensive knowledge and passion for beekeeping make him the perfect guide for this immersive experience.\n\nDon’t miss out on this unique chance to expand your knowledge and curiosity about bees and their vital role in our ecosystem.\nThis is a family discussion\, walk ins welcome.\n\nPlease call to Reserve yourself a seat\n\nGrand Blanc Location\n252 Perry Road\nGrand Blanc\nMI 48439\n\nPhone:\n810-866-4642 \n\n\n\n\nYou can find Mark at Spencers Honey.com  –Link
URL:https://rebekahspureliving.com/event/honey-tasting-with-mark-spencer-2/
LOCATION:Rebekahs Health and Nutrition/Grand Blanc\, 252 Perry Road\, #4\, Grand Blanc\, MI\, 48439
CATEGORIES:Grand Blanc
ATTACH;FMTTYPE=image/jpeg:https://rebekahspureliving.com/wp-content/uploads/2024/09/Honey-tasting-GB.jpg
ORGANIZER;CN="Rebekah's Pure Living":MAILTO:rebekahspureliving@gmail.com
END:VEVENT
BEGIN:VEVENT
DTSTART;TZID=UTC:20241024T180000
DTEND;TZID=UTC:20241024T190000
DTSTAMP:20260420T214928
CREATED:20241020T222614Z
LAST-MODIFIED:20241020T222614Z
UID:1476218-1729792800-1729796400@rebekahspureliving.com
SUMMARY:Heart Health
DESCRIPTION:This Thursday October 24th\, 6:00pm-7:00pm for a Free Heart health class with Aaron Wallace.\n\n\nBlood pressure too?\nstressed about your heart?\n struggling to improve your cardio endurance?\n\n\nLearn simple techniques and tools\nTo help your heart feel healthy all year long!\nBring a friend!\nCall or stop by our Grand Blanc location to\nReserve your spot today for this great class!\nWe hope to see you there!\n\n\n810-866-4642\n252 Perry rd.\nGrand Blanc\nHours: Mon-Sat 9-7\nSunday 10-5
URL:https://rebekahspureliving.com/event/heart-health-2/
LOCATION:Rebekahs Health and Nutrition/Grand Blanc\, 252 Perry Road\, #4\, Grand Blanc\, MI\, 48439
CATEGORIES:Grand Blanc
ATTACH;FMTTYPE=image/jpeg:https://rebekahspureliving.com/wp-content/uploads/2024/10/aaron-GB.jpg
ORGANIZER;CN="Rebekah's Pure Living":MAILTO:rebekahspureliving@gmail.com
END:VEVENT
END:VCALENDAR