BEGIN:VCALENDAR
VERSION:2.0
PRODID:-//Rebekah&#039;s Health and Nutrition - ECPv6.15.20//NONSGML v1.0//EN
CALSCALE:GREGORIAN
METHOD:PUBLISH
X-ORIGINAL-URL:https://rebekahspureliving.com
X-WR-CALDESC:Events for Rebekah&#039;s Health and Nutrition
REFRESH-INTERVAL;VALUE=DURATION:PT1H
X-Robots-Tag:noindex
X-PUBLISHED-TTL:PT1H
BEGIN:VTIMEZONE
TZID:UTC
BEGIN:STANDARD
TZOFFSETFROM:+0000
TZOFFSETTO:+0000
TZNAME:UTC
DTSTART:20240101T000000
END:STANDARD
END:VTIMEZONE
BEGIN:VTIMEZONE
TZID:America/Detroit
BEGIN:DAYLIGHT
TZOFFSETFROM:-0500
TZOFFSETTO:-0400
TZNAME:EDT
DTSTART:20240310T070000
END:DAYLIGHT
BEGIN:STANDARD
TZOFFSETFROM:-0400
TZOFFSETTO:-0500
TZNAME:EST
DTSTART:20241103T060000
END:STANDARD
BEGIN:DAYLIGHT
TZOFFSETFROM:-0500
TZOFFSETTO:-0400
TZNAME:EDT
DTSTART:20250309T070000
END:DAYLIGHT
BEGIN:STANDARD
TZOFFSETFROM:-0400
TZOFFSETTO:-0500
TZNAME:EST
DTSTART:20251102T060000
END:STANDARD
BEGIN:DAYLIGHT
TZOFFSETFROM:-0500
TZOFFSETTO:-0400
TZNAME:EDT
DTSTART:20260308T070000
END:DAYLIGHT
BEGIN:STANDARD
TZOFFSETFROM:-0400
TZOFFSETTO:-0500
TZNAME:EST
DTSTART:20261101T060000
END:STANDARD
END:VTIMEZONE
BEGIN:VEVENT
DTSTART;TZID=UTC:20250204T180000
DTEND;TZID=UTC:20250204T190000
DTSTAMP:20260421T193723
CREATED:20250108T180358Z
LAST-MODIFIED:20250113T223732Z
UID:1476438-1738692000-1738695600@rebekahspureliving.com
SUMMARY:The Pain Solution: Tools for Arthritis Relief and Recovery
DESCRIPTION:Upcoming Event: The Pain Solution\n\nClass Name: The Pain Solution: Tools for Arthritis Relief and Recovery\nDescription: Are you or a loved one struggling with arthritis or chronic pain? Join us for this empowering workshop led by Aaron Wallace\, Owner of Balance Your Fitness. Learn actionable strategies and tools to manage arthritis and pain effectively while improving your quality of life. Aaron will provide valuable insights from a chiropractor’s perspective\, focusing on holistic and sustainable pain relief solutions.Topics Covered:\n\nUnderstanding arthritis and chronic pain: causes and triggers\nThe role of posture and alignment in pain management\nExercises and stretches to support joint health\nNutrition and supplements to reduce inflammation\nHow chiropractic care can alleviate pain and restore mobility\nPractical tools for managing pain day-to-day\n\nDates and Locations: \n\nTuesday\, February 4th at 6 PM – Grand Blanc\n\nGrand Blanc Location\n252 Perry Road\nGrand Blanc\nMI 48439\n\nPhone:\n810-866-4642 \n\n\nSaturday\, February 8th at 2 PM – Lake Orion\n\nLake Orion Location\n1095 S. Lapeer Rd\nLake Orion\nMI 48360\n\nPhone:\n248-929-8990 \n\n\nSaturday\, February 22nd at 2 PM – Clarkston\n\nClarkston Location\n7093 Dixie Hwy\nClarkston\nMI 48346\n\nPhone:\n248-843-2011 \n\n\n\nInstructor Information: Aaron Wallace Owner\, Balance Your Fitness\nPhone: 248-250-6060\nWebsite: www.balanceyourfitness.com \nDon’t miss this opportunity to learn how to take control of your health and live pain-free. Reserve your spot today!\n\n 
URL:https://rebekahspureliving.com/event/the-pain-solution-tools-for-arthritis-relief-and-recovery/
LOCATION:Rebekahs Health and Nutrition/Grand Blanc\, 252 Perry Road\, #4\, Grand Blanc\, MI\, 48439
CATEGORIES:Grand Blanc
ATTACH;FMTTYPE=image/jpeg:https://rebekahspureliving.com/wp-content/uploads/2025/01/472789783_2822550567916728_1400258678096641892_n.jpg
ORGANIZER;CN="Rebekah's Pure Living":MAILTO:rebekahspureliving@gmail.com
END:VEVENT
BEGIN:VEVENT
DTSTART;TZID=America/Detroit:20250222T120000
DTEND;TZID=America/Detroit:20250222T160000
DTSTAMP:20260421T193723
CREATED:20250113T220459Z
LAST-MODIFIED:20250113T220459Z
UID:1476533-1740225600-1740240000@rebekahspureliving.com
SUMMARY:Max Pulse Testing
DESCRIPTION:Comprehensive testing using cutting edge technology administered by Tamra Hartwig\, HHP- Certified Max Pulse technician Appointments available for testing at Rebekah’s Health and Nutrition Stores \nDates:\nFEB 15th (Saturday)12 pm-4pm 1095 S. Lapeer Rd. Lake Orion\, 48360 call (248)929-8990 \nFEB 22nd (Saturday) 12pm-4pm -252 Perry Rd. Grand Blanc\, 48439 call (810) 866-4642 \nMARCH 8th (Saturday) 12pm-4pm 7093 Dixie Hwy Clarkston\, 48346 call (248) 843-20 \nMARCH 22nd (Saturday) 12pm-4pm  588 S. Main St. Lapeer\, 48446 call (810) 660-8585 Times: 12PM-4PM \nCost : Wave Type & arterial health- $35 (testing takes 1 minute) Full cardio health assessment including Autonomic Nervous system-$65 (3 minute)  20 minute appointment total
URL:https://rebekahspureliving.com/event/max-pulse-testing-2/
LOCATION:Rebekahs Health and Nutrition/Grand Blanc\, 252 Perry Road\, #4\, Grand Blanc\, MI\, 48439
CATEGORIES:Grand Blanc
ATTACH;FMTTYPE=image/jpeg:https://rebekahspureliving.com/wp-content/uploads/2025/01/472798548_530759019981508_1660795027617705880_n.jpg
ORGANIZER;CN="Rebekah's Pure Living":MAILTO:rebekahspureliving@gmail.com
END:VEVENT
END:VCALENDAR