BEGIN:VCALENDAR
VERSION:2.0
PRODID:-//Rebekah&#039;s Health and Nutrition - ECPv6.15.20//NONSGML v1.0//EN
CALSCALE:GREGORIAN
METHOD:PUBLISH
X-WR-CALNAME:Rebekah&#039;s Health and Nutrition
X-ORIGINAL-URL:https://rebekahspureliving.com
X-WR-CALDESC:Events for Rebekah&#039;s Health and Nutrition
REFRESH-INTERVAL;VALUE=DURATION:PT1H
X-Robots-Tag:noindex
X-PUBLISHED-TTL:PT1H
BEGIN:VTIMEZONE
TZID:America/Detroit
BEGIN:DAYLIGHT
TZOFFSETFROM:-0500
TZOFFSETTO:-0400
TZNAME:EDT
DTSTART:20240310T070000
END:DAYLIGHT
BEGIN:STANDARD
TZOFFSETFROM:-0400
TZOFFSETTO:-0500
TZNAME:EST
DTSTART:20241103T060000
END:STANDARD
BEGIN:DAYLIGHT
TZOFFSETFROM:-0500
TZOFFSETTO:-0400
TZNAME:EDT
DTSTART:20250309T070000
END:DAYLIGHT
BEGIN:STANDARD
TZOFFSETFROM:-0400
TZOFFSETTO:-0500
TZNAME:EST
DTSTART:20251102T060000
END:STANDARD
BEGIN:DAYLIGHT
TZOFFSETFROM:-0500
TZOFFSETTO:-0400
TZNAME:EDT
DTSTART:20260308T070000
END:DAYLIGHT
BEGIN:STANDARD
TZOFFSETFROM:-0400
TZOFFSETTO:-0500
TZNAME:EST
DTSTART:20261101T060000
END:STANDARD
END:VTIMEZONE
BEGIN:VEVENT
DTSTART;TZID=America/Detroit:20250320T173000
DTEND;TZID=America/Detroit:20250320T190000
DTSTAMP:20260421T224745
CREATED:20250224T170302Z
LAST-MODIFIED:20250305T000741Z
UID:1476703-1742491800-1742497200@rebekahspureliving.com
SUMMARY:Gut Health & Inflammation
DESCRIPTION:This is a FREE CLASS!\nAaron offers a gift certificate raffle for his services. Plus a 10% off any product purchased at the store for attending the seminar.\n\n\nGut Health & Inflammation: Heal Your Body from the Inside Out\n\nMany people struggle with bloating\, IBS\, leaky gut\, and food sensitivities.\nFocus on probiotics\, enzymes\, herbal support (like slippery elm & marshmallow root)\, and gut-healing diets.\nOffer a gut health bundle with top-selling products like digestive enzymes\, probiotics\, and gut repair powders.\n\n \n\nAaron Wallace\nOwner Balance Your Fitness\nCHEK Practitioner Level 3\n248 250 6060\nwww.balanceyourfitness.com\ninfo@balanceyourfitness.com
URL:https://rebekahspureliving.com/event/gut-health-inflammation/
LOCATION:Rebekahs Health and Nutrition/Grand Blanc\, 252 Perry Road\, #4\, Grand Blanc\, MI\, 48439
CATEGORIES:Grand Blanc
ATTACH;FMTTYPE=image/png:https://rebekahspureliving.com/wp-content/uploads/2025/02/Heal-Your-Gut-Event-Social-1.png
ORGANIZER;CN="Rebekah's Pure Living":MAILTO:rebekahspureliving@gmail.com
END:VEVENT
END:VCALENDAR