BEGIN:VCALENDAR
VERSION:2.0
PRODID:-//Rebekah&#039;s Health and Nutrition - ECPv6.15.20//NONSGML v1.0//EN
CALSCALE:GREGORIAN
METHOD:PUBLISH
X-WR-CALNAME:Rebekah&#039;s Health and Nutrition
X-ORIGINAL-URL:https://rebekahspureliving.com
X-WR-CALDESC:Events for Rebekah&#039;s Health and Nutrition
REFRESH-INTERVAL;VALUE=DURATION:PT1H
X-Robots-Tag:noindex
X-PUBLISHED-TTL:PT1H
BEGIN:VTIMEZONE
TZID:UTC
BEGIN:STANDARD
TZOFFSETFROM:+0000
TZOFFSETTO:+0000
TZNAME:UTC
DTSTART:20240101T000000
END:STANDARD
END:VTIMEZONE
BEGIN:VTIMEZONE
TZID:America/Detroit
BEGIN:DAYLIGHT
TZOFFSETFROM:-0500
TZOFFSETTO:-0400
TZNAME:EDT
DTSTART:20240310T070000
END:DAYLIGHT
BEGIN:STANDARD
TZOFFSETFROM:-0400
TZOFFSETTO:-0500
TZNAME:EST
DTSTART:20241103T060000
END:STANDARD
BEGIN:DAYLIGHT
TZOFFSETFROM:-0500
TZOFFSETTO:-0400
TZNAME:EDT
DTSTART:20250309T070000
END:DAYLIGHT
BEGIN:STANDARD
TZOFFSETFROM:-0400
TZOFFSETTO:-0500
TZNAME:EST
DTSTART:20251102T060000
END:STANDARD
BEGIN:DAYLIGHT
TZOFFSETFROM:-0500
TZOFFSETTO:-0400
TZNAME:EDT
DTSTART:20260308T070000
END:DAYLIGHT
BEGIN:STANDARD
TZOFFSETFROM:-0400
TZOFFSETTO:-0500
TZNAME:EST
DTSTART:20261101T060000
END:STANDARD
END:VTIMEZONE
BEGIN:VEVENT
DTSTART;TZID=UTC:20250405T110000
DTEND;TZID=UTC:20250405T123000
DTSTAMP:20260421T224750
CREATED:20250305T001840Z
LAST-MODIFIED:20250324T204002Z
UID:1476728-1743850800-1743856200@rebekahspureliving.com
SUMMARY:Spring Cleanse Reset-Grand Blanc
DESCRIPTION:Spring Cleanse Reset: 30 Days to a Healthier Gut & Vibrant Life\n📅 Date: April 5th | 🕚 Time: 11 AM\n📍 Location: Rebekah’s Health & Nutrition – Grand Blanc\n🎟️ Cost: FREE! \nAre you ready to refresh\, restore\, and revitalize your health? Join us for a FREE class with Rebekah Spencer\, HHP\, and discover how to detoxify your body and improve gut health in just 30 days! \nToxins and waste can build up over time\, causing digestive issues\, fatigue\, and inflammation—but you don’t have to live that way! This class will equip you with the tools\, knowledge\, and motivation to reset your gut\, strengthen your immune system\, and take control of your well-being. \nDo You Struggle With…?\n\nBloating\nConstipation\nExcessive diarrhea\nChronic fatigue\nJoint and muscle pain\nInsomnia\nIncreased belly fat\nUnwanted weight gain\n\nIf so\, it’s time for a reset! \nWhat Can You Expect After 30 Days?\n✅ Less bloating & improved digestion\n✅ Better nutrient absorption\n✅ Increased energy & vitality\n✅ Weight loss & balanced hormones\n✅ Strengthened immune system\n✅ Disease prevention & overall wellness \nWhy Gut Health Matters\n🩺 Fact #1: 9 out of 10 diseases begin in the colon.\n🛡️ Fact #2: Approximately 70% of your immune system is housed in your gut. \nYour health starts from within—let’s cleanse\, detoxify\, and restore balance together! \nMeet Your Instructor: Rebekah Spencer\, HHP\nRebekah Spencer is a Holistic Health Practitioner\, NES Health Practitioner\, health coach\, educator\, and founder of Rebekah’s Health & Nutrition Source. After struggling with chronic health issues for over 30 years—including Lyme disease\, thyroid imbalances\, migraines\, and more—she took control of her well-being through holistic healing. Now\, at 61\, she is medication-free\, full of energy\, and living her healthiest life. \nHer passion is to empower others to take control of their own health through detoxification\, oxygenation\, proper nutrition\, and positive lifestyle choices. \nReserve Your Spot Today!\n📞 Call: (810) 866-4642\n📍 Location: Rebekah’s Health & Nutrition – Grand Blanc\n252 Perry Rd\, Grand Blanc\, MI 48439 \n🌿 Take this step toward a healthier\, more vibrant YOU! 🌿 \n“You are not stuck where you are unless you decide to be.” – Dr. Wayne Dyer \n\nThis keeps it engaging\, informative\, and motivating while making sure the Grand Blanc location details are clear. Let me know if you’d like any tweaks! 😊 \n\n\n  \nRebekah’s Pure Living’s Facebook page is Click here\n\nRebekah’s Pure Living exclusive products Click here
URL:https://rebekahspureliving.com/event/spring-cleanse-reset-grand-blanc/
LOCATION:Rebekahs Health and Nutrition/Grand Blanc\, 252 Perry Road\, #4\, Grand Blanc\, MI\, 48439
CATEGORIES:Grand Blanc
ATTACH;FMTTYPE=image/png:https://rebekahspureliving.com/wp-content/uploads/2025/03/Spring-Detox-Grand-Blanc-1.png
ORGANIZER;CN="Rebekah's Pure Living":MAILTO:rebekahspureliving@gmail.com
END:VEVENT
BEGIN:VEVENT
DTSTART;TZID=America/Detroit:20250410T090000
DTEND;TZID=America/Detroit:20250413T190000
DTSTAMP:20260421T224750
CREATED:20250330T172324Z
LAST-MODIFIED:20250330T172324Z
UID:1476903-1744275600-1744570800@rebekahspureliving.com
SUMMARY:25% Off All Natural Factors Brand Products
DESCRIPTION:25% Off All Natural Factors Brand Products\nMay 10th – May 13th \n\nSpring into savings at Rebekah’s Health and Nutrition! From May 10th to May 13th\, enjoy 24% off all Natural Factors brand products at all four of our store locations. Stock up on your favorite supplements and wellness essentials—because feeling your best starts with the best choices!\n\nVisit Us at Any of Our Four Locations:\nLapeer Location\n588 S Main St\nLapeer\, MI 48446\nPhone: 810-660-8585\n\nClarkston Location\n7093 Dixie Hwy\nClarkston\, MI 48346\nPhone: 248-843-2011\n\nGrand Blanc Location\n252 Perry Road\nGrand Blanc\, MI 48439\nPhone: 810-866-4642\n\nLake Orion Location\n1095 S. Lapeer Rd\nLake Orion\, MI 48360\nPhone: 248-929-8990 \nStore Hours:\n\n\nMonday – Saturday: 9:00 AM – 7:00 PM \n\n\nSunday: 10:00 AM – 5:00 PM\n\n\nDon’t miss out—this sale runs for four days only! Stop by\, say hello\, and save big on Natural Factors products. We can’t wait to see you!
URL:https://rebekahspureliving.com/event/25-off-all-natural-factors-brand-products/
LOCATION:Rebekahs Health and Nutrition/Lapeer\, 588 S Main Street\, Lapeer\, MI\, 48446\, United States
CATEGORIES:Clarkston,Grand Blanc,Lake Orion,Lapeer
ATTACH;FMTTYPE=image/png:https://rebekahspureliving.com/wp-content/uploads/2025/03/Natural-Factors-Sale.png
END:VEVENT
END:VCALENDAR