BEGIN:VCALENDAR
VERSION:2.0
PRODID:-//Rebekah&#039;s Health and Nutrition - ECPv6.15.20//NONSGML v1.0//EN
CALSCALE:GREGORIAN
METHOD:PUBLISH
X-ORIGINAL-URL:https://rebekahspureliving.com
X-WR-CALDESC:Events for Rebekah&#039;s Health and Nutrition
REFRESH-INTERVAL;VALUE=DURATION:PT1H
X-Robots-Tag:noindex
X-PUBLISHED-TTL:PT1H
BEGIN:VTIMEZONE
TZID:America/Detroit
BEGIN:DAYLIGHT
TZOFFSETFROM:-0500
TZOFFSETTO:-0400
TZNAME:EDT
DTSTART:20240310T070000
END:DAYLIGHT
BEGIN:STANDARD
TZOFFSETFROM:-0400
TZOFFSETTO:-0500
TZNAME:EST
DTSTART:20241103T060000
END:STANDARD
BEGIN:DAYLIGHT
TZOFFSETFROM:-0500
TZOFFSETTO:-0400
TZNAME:EDT
DTSTART:20250309T070000
END:DAYLIGHT
BEGIN:STANDARD
TZOFFSETFROM:-0400
TZOFFSETTO:-0500
TZNAME:EST
DTSTART:20251102T060000
END:STANDARD
BEGIN:DAYLIGHT
TZOFFSETFROM:-0500
TZOFFSETTO:-0400
TZNAME:EDT
DTSTART:20260308T070000
END:DAYLIGHT
BEGIN:STANDARD
TZOFFSETFROM:-0400
TZOFFSETTO:-0500
TZNAME:EST
DTSTART:20261101T060000
END:STANDARD
END:VTIMEZONE
BEGIN:VEVENT
DTSTART;TZID=America/Detroit:20250710T080000
DTEND;TZID=America/Detroit:20250715T170000
DTSTAMP:20260421T070659
CREATED:20250710T142153Z
LAST-MODIFIED:20250710T142235Z
UID:1477126-1752134400-1752598800@rebekahspureliving.com
SUMMARY:Emeralds Sale- Buy one get one at 1/2 price
DESCRIPTION:Discover the Emerald Labs Difference – Additive-Free & Doctor-Formulated\n\n\nAt Rebekah’s\, we’re always searching for supplements that offer real results with real integrity. That’s why we’re so excited to spotlight Emerald Labs—one of the cleanest\, most clinically-focused brands in the wellness world.\n\n\nEmerald Labs isn’t just another supplement brand—it’s the Additive-Free Company\, born from one man’s quest for true quality. Rick Simpson\, a former industry leader\, launched Emerald Labs with one clear purpose: to develop doctor-formulated\, additive- and gluten-free supplements you can trust.\n\n\nRick’s dedication to purity and potency means every product—from Vitamin D3+K2 to Magnesium\, B‑Healthy B‑Complex\, and Thyroid formulas—is crafted with only the essential\, therapeutic ingredients—no fillers\, no fluff.\n\n\nEvery Emerald Labs formula is:\n Additive-free\n Gluten-free\n Made with superior nutrient forms at therapeutic doses\n Doctor-formulated with clinical integrity\n\n\nFrom Vitamin D3+K2\, Magnesium 400 mg\, and B-Healthy® B-Complex to Thyroid Health and Memory Support\, every capsule is crafted to deliver what your body truly needs—without the fluff.\n\n\n SPECIAL SALE ALERT \nJuly 10th -July 15th\, Buy One\, Get One Half Off across the entire Emerald Labs line!\n\n\nWhether you’re new to the brand or already a fan\, this is the perfect time to stock up and experience the difference for yourself.\n\n\n Available at all 4 Rebekah’s Health & Nutrition locations:\nLapeer • Lake Orion • Grand Blanc • Clarkston\n\n\nTrust your supplements. Trust the source.\n Discover Emerald Labs today.
URL:https://rebekahspureliving.com/event/emeralds-sale-buy-one-get-one-at-1-2-price/
LOCATION:MI
CATEGORIES:Clarkston,Grand Blanc,Lake Orion,Lapeer
ATTACH;FMTTYPE=image/jpeg:https://rebekahspureliving.com/wp-content/uploads/2025/07/2daa0b5f-b814-4db6-96e6-2b1d640ee28e.jpg
END:VEVENT
BEGIN:VEVENT
DTSTART;TZID=America/Detroit:20250717T173000
DTEND;TZID=America/Detroit:20250717T183000
DTSTAMP:20260421T070659
CREATED:20250613T141415Z
LAST-MODIFIED:20250613T141415Z
UID:1477028-1752773400-1752777000@rebekahspureliving.com
SUMMARY:Understanding Your Sleep Cycle
DESCRIPTION:Understanding Your Sleep Cycle\nImprove Sleep Quality with Aaron WallaceHosted at Rebekah’s Health & Nutrition \nUnderstanding Your Sleep Cycle is key to achieving optimal health\, energy\, and well-being. In this engaging and informative class\, Health Expert Aaron Wallace\, owner of Balance Your Fitness\, will teach you how to transform your sleep and improve your life. \nWhether you struggle with falling asleep\, staying asleep\, or waking up feeling rested — this class will equip you with actionable tools to make lasting improvements. \nParticipants will gain a deep understanding of their sleep cycle\, learn how to manage common disruptors\, and discover science-based tips for achieving truly restorative sleep. \nWhat You’ll Learn:\n✅ The stages of the sleep cycle and what happens during each stage✅ Common sleep disruptors and hidden causes of poor sleep✅ How stress\, nutrition\, and exercise affect sleep quality✅ Tips for creating your own sleep-friendly routine and environment✅ Science-backed strategies for improving deep sleep and REM sleep✅ How better sleep can help you unlock greater productivity\, recovery\, and vitality \nAaron brings a refreshing\, holistic perspective to sleep health — blending insights from exercise science\, stress management\, nutrition\, and lifestyle coaching. His customized approach empowers you to implement sustainable changes that fit your life. \nWhether you want to boost daytime energy\, support immune function\, or simply wake up feeling more alive — this class will help you harness the power of healthy sleep. \n✨ The session includes interactive discussion\, Q&A\, and actionable tips tailored to your lifestyle. \nRegister now on Rebekah’s Pure Living websiteSpaces are limited — give yourself (and your body) the gift of better sleep! \n\nAbout Aaron Wallace\nMy name is Aaron Wallace and I am the owner of Balance Your Fitness. Our mission is to help you live your life in balance. \n\n\nReserve Your Spot Today!📞 Call 810-660-8585 or register online here \nShop Rebekahs Exclusive products –  Click here
URL:https://rebekahspureliving.com/event/understanding-your-sleep-cycle/
LOCATION:Rebekahs Health and Nutrition/Grand Blanc\, 252 Perry Road\, #4\, Grand Blanc\, MI\, 48439
CATEGORIES:Grand Blanc
ATTACH;FMTTYPE=image/jpeg:https://rebekahspureliving.com/wp-content/uploads/2025/06/Grand-Blanc-Class.jpg
END:VEVENT
END:VCALENDAR