BEGIN:VCALENDAR
VERSION:2.0
PRODID:-//Rebekah&#039;s Health and Nutrition - ECPv6.15.20//NONSGML v1.0//EN
CALSCALE:GREGORIAN
METHOD:PUBLISH
X-ORIGINAL-URL:https://rebekahspureliving.com
X-WR-CALDESC:Events for Rebekah&#039;s Health and Nutrition
REFRESH-INTERVAL;VALUE=DURATION:PT1H
X-Robots-Tag:noindex
X-PUBLISHED-TTL:PT1H
BEGIN:VTIMEZONE
TZID:America/Detroit
BEGIN:DAYLIGHT
TZOFFSETFROM:-0500
TZOFFSETTO:-0400
TZNAME:EDT
DTSTART:20240310T070000
END:DAYLIGHT
BEGIN:STANDARD
TZOFFSETFROM:-0400
TZOFFSETTO:-0500
TZNAME:EST
DTSTART:20241103T060000
END:STANDARD
BEGIN:DAYLIGHT
TZOFFSETFROM:-0500
TZOFFSETTO:-0400
TZNAME:EDT
DTSTART:20250309T070000
END:DAYLIGHT
BEGIN:STANDARD
TZOFFSETFROM:-0400
TZOFFSETTO:-0500
TZNAME:EST
DTSTART:20251102T060000
END:STANDARD
BEGIN:DAYLIGHT
TZOFFSETFROM:-0500
TZOFFSETTO:-0400
TZNAME:EDT
DTSTART:20260308T070000
END:DAYLIGHT
BEGIN:STANDARD
TZOFFSETFROM:-0400
TZOFFSETTO:-0500
TZNAME:EST
DTSTART:20261101T060000
END:STANDARD
END:VTIMEZONE
BEGIN:VEVENT
DTSTART;TZID=America/Detroit:20250801T080000
DTEND;TZID=America/Detroit:20250805T170000
DTSTAMP:20260419T120505
CREATED:20250801T214349Z
LAST-MODIFIED:20250801T214349Z
UID:1477187-1754035200-1754413200@rebekahspureliving.com
SUMMARY:Terry Naturally Sale
DESCRIPTION:Huge SALE at Rebekah’s Health And Nutrition Source- All 4 Locations \n\n\n\nTerry Naturally – One of our BEST brands – Now 20% OFF! \nWhether you’re looking for support with:\n\n Joint Health\n Heart Health\n Anxiety Relief\n Pain & Inflammation\n Brain Health\n Multivitamins\n Thyroid\n\n\n\nTerry Naturally has you covered!\n\n\n Sale Dates: July 31st – August 5th\n\n Don’t miss out on these amazing savings on one of the best lines we carry!\n\n\n Come in early for the best selection — we’ve got what your body’s been asking for!\n\n\n\nLapeer * Lake Orion * Grand Blanc * Clarkston
URL:https://rebekahspureliving.com/event/terry-naturally-sale/
LOCATION:MI
CATEGORIES:Clarkston,Grand Blanc,Lake Orion,Lapeer
ATTACH;FMTTYPE=image/jpeg:https://rebekahspureliving.com/wp-content/uploads/2025/08/Terry-sale.jpg
ORGANIZER;CN="Rebekah's Pure Living":MAILTO:rebekahspureliving@gmail.com
END:VEVENT
BEGIN:VEVENT
DTSTART;TZID=America/Detroit:20250805T080000
DTEND;TZID=America/Detroit:20250812T190000
DTSTAMP:20260419T120505
CREATED:20250805T132449Z
LAST-MODIFIED:20250805T132449Z
UID:1477220-1754380800-1755025200@rebekahspureliving.com
SUMMARY:Antient Nutrition Sale
DESCRIPTION:
URL:https://rebekahspureliving.com/event/antient-nutrition-sale/
LOCATION:MI
CATEGORIES:Clarkston,Grand Blanc,Lake Orion,Lapeer
ATTACH;FMTTYPE=image/jpeg:https://rebekahspureliving.com/wp-content/uploads/2025/08/6ee1185c-ad94-4290-b17f-efed81a687b2.jpg
END:VEVENT
BEGIN:VEVENT
DTSTART;TZID=America/Detroit:20250821T173000
DTEND;TZID=America/Detroit:20250821T190000
DTSTAMP:20260419T120505
CREATED:20250606T164009Z
LAST-MODIFIED:20250804T140821Z
UID:1476999-1755797400-1755802800@rebekahspureliving.com
SUMMARY:Women’s Health Workshop: Hormones
DESCRIPTION: Women’s Health Workshop: The Truth About Hormones & Bioidentical Therapy \n\nAre you curious about hormone replacement therapy and how it can support your well-being during perimenopause\, menopause\, and beyond? Join us for an empowering\, educational session focused on helping women navigate hormone replacement therapy (HRT)—from natural over-the-counter remedies to prescription options\, Laura takes a holistic approach to hormone health\, and will leave you feeling empowered to make informed decisions for your personal health journey.\n\n\n\n About the Speaker:Laura Young\, FDN-P\, is a Functional Diagnostic Nutrition Practitioner and founder of Total Wellness Solutions. Her passion is educating women to take control of their health with the latest tools and science-based strategies.  Website: Total Wellness Solutions\nwww.totalwellnessolutions.com \n\n Seats are limited – call to reserve yours today!  810-866-4642\nBring your girlfriends\, your questions\, and your curiosity. You deserve to feel your absolute best—and this workshop is the perfect place to start!\n\n\nLadies\, you do not want to miss this! Join us for a powerful morning of education\, discussion\, and empowerment with Laura Young\, FDN-P\, as she dives into the latest research in women’s health and bioidentical hormone therapy.\nIn this transformational workshop\, Laura will:\n  Debunk the myths around hormone health Explore the history (and controversy) of hormone therapy Break down what really works according to today’s science Teach you how to balance your hormones naturally and effectively Leave you feeling empowered\, informed\, and ready to take control of your health journey\n\n Common Symptoms of Low Hormones:Fatigue or low energy\nMood swings or irritability\nHot flashes or night sweats\nWeight gain (especially around the belly)\nLow libido or sexual discomfort\nBrain fog or memory issues\nIrregular or painful periods\nInsomnia or difficulty sleeping\nAnxiety or depression\nThinning hair or dry skin\n\n Benefits of Bioidentical Hormones:Increased energy and vitality\nImproved sleep and mood\nHealthy metabolism and weight management\nBalanced emotions and clearer thinking\nEnhanced libido and sexual wellness\nRelief from hot flashes and night sweats\nStronger bones and heart health\nA renewed sense of confidence and joy\n\n\nBring your girlfriends\, your questions\, and your curiosity. You deserve to feel your absolute best—and this workshop is the perfect place to start!
URL:https://rebekahspureliving.com/event/womens-health-workshop-hormones-3/
LOCATION:Rebekahs Health and Nutrition/Grand Blanc\, 252 Perry Road\, #4\, Grand Blanc\, MI\, 48439
CATEGORIES:Grand Blanc
ATTACH;FMTTYPE=image/jpeg:https://rebekahspureliving.com/wp-content/uploads/2025/06/Laura-grand-blanc.jpg
ORGANIZER;CN="Rebekah's Pure Living":MAILTO:rebekahspureliving@gmail.com
END:VEVENT
END:VCALENDAR