BEGIN:VCALENDAR
VERSION:2.0
PRODID:-//Rebekah&#039;s Health and Nutrition - ECPv6.15.20//NONSGML v1.0//EN
CALSCALE:GREGORIAN
METHOD:PUBLISH
X-ORIGINAL-URL:https://rebekahspureliving.com
X-WR-CALDESC:Events for Rebekah&#039;s Health and Nutrition
REFRESH-INTERVAL;VALUE=DURATION:PT1H
X-Robots-Tag:noindex
X-PUBLISHED-TTL:PT1H
BEGIN:VTIMEZONE
TZID:UTC
BEGIN:STANDARD
TZOFFSETFROM:+0000
TZOFFSETTO:+0000
TZNAME:UTC
DTSTART:20230101T000000
END:STANDARD
END:VTIMEZONE
BEGIN:VEVENT
DTSTART;TZID=UTC:20240919T180000
DTEND;TZID=UTC:20240919T190000
DTSTAMP:20260420T015129
CREATED:20240913T193156Z
LAST-MODIFIED:20240913T193156Z
UID:1476093-1726768800-1726772400@rebekahspureliving.com
SUMMARY:GETTING HEALTHY STAYING HEALTHY
DESCRIPTION:GETTING HEALTHY STAYING HEALTHY with Aaron Wallace \nMoving from Summer to Fall and how to strengthen your immune system and protect yourself from getting sick\, the Natural Way. \n  \nTues September 19 | 6-7pm at Grand Blanc\nThurs September 26 | 6-7pm at Clarkston\n\nLearn more\n\nAaron Wallace\nOwner Balance Your Fitness\nCHEK Practitioner Level 3\n248 250 6060\nwww.balanceyourfitness.com\ninfo@balanceyourfitness.com
URL:https://rebekahspureliving.com/event/getting-healthy-staying-healthy-3/
LOCATION:Rebekahs Health and Nutrition/Grand Blanc\, 252 Perry Road\, #4\, Grand Blanc\, MI\, 48439
CATEGORIES:Grand Blanc
ORGANIZER;CN="Rebekah's Pure Living":MAILTO:rebekahspureliving@gmail.com
END:VEVENT
END:VCALENDAR