BEGIN:VCALENDAR
VERSION:2.0
PRODID:-//Rebekah&#039;s Health and Nutrition - ECPv6.15.20//NONSGML v1.0//EN
CALSCALE:GREGORIAN
METHOD:PUBLISH
X-ORIGINAL-URL:https://rebekahspureliving.com
X-WR-CALDESC:Events for Rebekah&#039;s Health and Nutrition
REFRESH-INTERVAL;VALUE=DURATION:PT1H
X-Robots-Tag:noindex
X-PUBLISHED-TTL:PT1H
BEGIN:VTIMEZONE
TZID:UTC
BEGIN:STANDARD
TZOFFSETFROM:+0000
TZOFFSETTO:+0000
TZNAME:UTC
DTSTART:20240101T000000
END:STANDARD
END:VTIMEZONE
BEGIN:VEVENT
DTSTART;TZID=UTC:20250109T180000
DTEND;TZID=UTC:20250109T180000
DTSTAMP:20260421T201516
CREATED:20241208T204740Z
LAST-MODIFIED:20241208T211001Z
UID:1476330-1736445600-1736445600@rebekahspureliving.com
SUMMARY:What’s the point of exercise?- Grand Blanc
DESCRIPTION:What’s the point of exercise?\nAre you struggling to reach your fitness goals? Have you\ntried trainers\, gyms\, classes and dieticians to lose weight\nrelieve pain\, improve flexibility and get stronger but not seeing results?  Learn the science behind reaching your goals\nfaster and easier than you’ve ever felt possible.\n\nThis is a FREE CLASS!\nAaron offers gift certificate raffle for his services. Plus a 10 percent off any product purchased at the store for attending the seminar.\n\n\nGrand Blanc Location\nThursday Jan 9th at 6pm Grand Blanc \n252 Perry Road\nGrand Blanc\nMI 48439\n\nPhone:\n810-866-4642 \n\n\n\nAbout the Educator\n\n\nAaron Wallace\nOwner Balance Your Fitness\nCHEK Practitioner Level 3\n248 250 6060\nwww.balanceyourfitness.com\ninfo@balanceyourfitness.com
URL:https://rebekahspureliving.com/event/whats-the-point-of-exercise/
LOCATION:Rebekahs Health and Nutrition/Grand Blanc\, 252 Perry Road\, #4\, Grand Blanc\, MI\, 48439
CATEGORIES:Grand Blanc
ATTACH;FMTTYPE=image/jpeg:https://rebekahspureliving.com/wp-content/uploads/2024/12/462562310_579976764972952_1511162651198633090_n.jpg
ORGANIZER;CN="Rebekah's Pure Living":MAILTO:rebekahspureliving@gmail.com
END:VEVENT
END:VCALENDAR