BEGIN:VCALENDAR
VERSION:2.0
PRODID:-//Rebekah&#039;s Health and Nutrition - ECPv6.15.20//NONSGML v1.0//EN
CALSCALE:GREGORIAN
METHOD:PUBLISH
X-ORIGINAL-URL:https://rebekahspureliving.com
X-WR-CALDESC:Events for Rebekah&#039;s Health and Nutrition
REFRESH-INTERVAL;VALUE=DURATION:PT1H
X-Robots-Tag:noindex
X-PUBLISHED-TTL:PT1H
BEGIN:VTIMEZONE
TZID:UTC
BEGIN:STANDARD
TZOFFSETFROM:+0000
TZOFFSETTO:+0000
TZNAME:UTC
DTSTART:20230101T000000
END:STANDARD
END:VTIMEZONE
BEGIN:VEVENT
DTSTART;TZID=UTC:20241016T180000
DTEND;TZID=UTC:20241016T190000
DTSTAMP:20260421T141640
CREATED:20240913T203545Z
LAST-MODIFIED:20241007T233808Z
UID:1476110-1729101600-1729105200@rebekahspureliving.com
SUMMARY:Honey Tasting and Medicines from the Hive
DESCRIPTION:Explore the World of Beekeeping\,  Honey Tasting and  Medicine from the Hive with Mark Spencer\n\nJoin us for an engaging and educational hour with Mark Spencer\, a seasoned beekeeper and owner of Spencer’s Apiaries\, LLC. Dive into the fascinating world of honeybees and discover the myriad gifts the hive has to offer. Honey\, Propolis and Bee Pollen\n\nThis session will include:\nAn interactive honey tasting experience. Taste honey from the comb and five other specialty honeys.\n\nIn-depth education on bee hives and their importance.\n\nA chance to view a live display hive up close.\n\nMead tasting too!  Cherry and Original!\n\nThis is a fantastic opportunity to learn from an expert\, ask all your beekeeping questions\, and gain a deeper appreciation for these incredible pollinators.\nAbout Mark Spencer:\nMark Spencer is a full-time beekeeper\, the Vice President of Seven Ponds Bee Club\, and an instructor at the SEMBA Bee School. His extensive knowledge and passion for beekeeping make him the perfect guide for this immersive experience.\n\nDon’t miss out on this unique chance to expand your knowledge and curiosity about bees and their vital role in our ecosystem.\nThis is a family discussion\, walk ins welcome.\n\nCall to reserve you and your family a seat!\n\n\n\nLake Orion Location\n1095 S. Lapeer Rd\nLake Orion\nMI 48360\n\nPhone:\n248-929-8990 \n\n\n\n\n\n\nYou can find Mark at Spencers Honey.com  –Link
URL:https://rebekahspureliving.com/event/honey-tasting-and-medicines-from-the-hive/
LOCATION:Rebekah’s Health and Nutrition/Lake Orion\, 1095 Lapeer Road\, Lake Orion\, MI\, 48360\, United States
CATEGORIES:Lake Orion
ATTACH;FMTTYPE=image/jpeg:https://rebekahspureliving.com/wp-content/uploads/2024/09/458260700_1175606763668888_4114343132417706050_n.jpg
ORGANIZER;CN="Rebekah's Pure Living":MAILTO:rebekahspureliving@gmail.com
END:VEVENT
BEGIN:VEVENT
DTSTART;TZID=UTC:20241026T110000
DTEND;TZID=UTC:20241026T123000
DTSTAMP:20260421T141640
CREATED:20240703T171850Z
LAST-MODIFIED:20241020T034812Z
UID:1475762-1729940400-1729945800@rebekahspureliving.com
SUMMARY:Cacao Ceremony
DESCRIPTION:Hey all!\nI personally have a long history of working with the heart opening plant medicine Ceremonial Cacao.This medicine has supported me in my process of healing from a broken heart\, healing from trauma\, activating my creativity in new ways\, connecting me with my intuition\, and supporting me in elevating my mood daily as it’s rich in tryptophan\, an amino acid that converts to serotonin\, leaving you feeling wonderful.\n\n\n\nIt only made sense for me to bring this amazing medicine to my community here in Lake Orion to support those in need of healing\, or seeking greater joy in their lives.\n\n\nWe are currently offering 1lb Granulated Ceremonial Cacao from my personal favorite company Cacao Laboratory\, as well as their elemental bar line that has different ingredients to align with each element; Earth\, Water\, Fire & Air.\n\n\n\nWhen different plant compounds are put together with Ceremonial Cacao\, unique benefits occur…as each relationship amongst the plants creates different chemical reactions in your body. I loved the process of finding the best recipe for MY body.\n\n\nIf you’re interested in trying out this medicine for yourself\, come join my free Cacao Class on July 20th\, Saturday from 11:00-12:30pm. We had such a great turnout and interest in our last class\, it only felt right to bring it back again!\n\n\n\nTo join\, call my store and let us know you want to come to the Cacao Class.\n\n\n\nYou’ll try your own cup of Ceremonial Cacao intentionally crafted by myself\,\nyou’ll learn about this medicine and how to work with it yourself\,\nand you’ll also receive/witness deep healing occur within the group.\n\n\n\nFor those that attend and want to begin working with this medicine on your own\, we will be discounting bundles for the event! \n\n\nI look forward to seeing you there.\n\nTag a friend and share this with those who’d be interested in coming\, and bring a loved one with you!\n\n\n\nLAKE ORION LOCATION\nOctober 26th\, Saturday from 11-12:30pm\nFREE\n\n\n1095 S Lapeer Rd. Lake Orion\, MI. 48360\n248-929-8990\n\n\nVisit our FB page Click Here \nMore about us- Click Here \n 
URL:https://rebekahspureliving.com/event/cacao-ceremony/
LOCATION:Rebekah’s Health and Nutrition/Lake Orion\, 1095 Lapeer Road\, Lake Orion\, MI\, 48360\, United States
CATEGORIES:Lake Orion
ATTACH;FMTTYPE=image/jpeg:https://rebekahspureliving.com/wp-content/uploads/2024/07/462541904_573763965089279_4434515013462131778_n.jpg
ORGANIZER;CN="Rebekah's Pure Living":MAILTO:rebekahspureliving@gmail.com
END:VEVENT
END:VCALENDAR