BEGIN:VCALENDAR
VERSION:2.0
PRODID:-//Rebekah&#039;s Health and Nutrition - ECPv6.15.20//NONSGML v1.0//EN
CALSCALE:GREGORIAN
METHOD:PUBLISH
X-ORIGINAL-URL:https://rebekahspureliving.com
X-WR-CALDESC:Events for Rebekah&#039;s Health and Nutrition
REFRESH-INTERVAL;VALUE=DURATION:PT1H
X-Robots-Tag:noindex
X-PUBLISHED-TTL:PT1H
BEGIN:VTIMEZONE
TZID:UTC
BEGIN:STANDARD
TZOFFSETFROM:+0000
TZOFFSETTO:+0000
TZNAME:UTC
DTSTART:20230101T000000
END:STANDARD
END:VTIMEZONE
BEGIN:VEVENT
DTSTART;TZID=UTC:20241116T120000
DTEND;TZID=UTC:20241116T160000
DTSTAMP:20260421T005143
CREATED:20240920T002552Z
LAST-MODIFIED:20241110T212910Z
UID:1476123-1731758400-1731772800@rebekahspureliving.com
SUMMARY:Fall in Love with Health Fair
DESCRIPTION:Lake Orion’s Annual Health Fair!\nSave the Date and put it in your calendar!\n\n** Make sure to click INTERESTED to receive up to date info as we announce more vendors\, giveaways & more! **\n\n Fall in Love with Health Fair – Saturday\, November 16th\, 12-4pm. 1095 S. Lapeer Rd\, Lake Orion\, MI 48360.\n\nGrab a friend (or two!) and join us for an afternoon of self-care and holistic wellness at our Lapeer location for our Annual Health Fair on Saturday\, November16th\, from 12 to 4pm!\n Exclusive Offer: The first 25 customers who spend $50 or more will receive a FREE gift bag filled with amazing goodies! Plus\, we’re raffling off 3 LARGE gift baskets packed with incredible products. (No purchase necessary to enter the raffle.)\n\n Our Talent:\nTamera Harwig- Max Pulse cardio testingSue Novotney- Intuitive ReaderAaron Wallace- Holistic PractitionerKoleen Adams: Free Posture ScreeningTheresa Venturini- Chair MassageDalia Hartman: Beautiful Henna Tattoo ArtNatalie- Reiki\n\n Meet Our Suppliers:Jorge & Desiree Leon: Flora Coffee Bean Co.Renee Sorgi- Free and Simple FoodsAlaina Lewis Campbell owner of Sprout BakeAaron Thomas: Private Label Line ExpertMatt Manger- from Terry NaturallyMike from Natural FactorsGeorge and Ingrid from Reds RemedyLogan and Ashley- MiJuiceLeigh Odom-Orangetheory Fitness\n\n We’ll be updating our list of participants weekly\, so stay tuned!\nDon’t miss out on this incredible event filled with health\, wellness\, and community spirit. We can’t wait to see you there!\n Mark your calendars: Saturday\, November 16th\, 12-4pm at our Lake Orion location!\n\n\n\n\nRebekah’s Pure Living’s Facebook page is Click here \nRebekah’s Pure Living exclusive products Click here
URL:https://rebekahspureliving.com/event/fall-in-love-with-health-fair/
LOCATION:Rebekah’s Health and Nutrition/Lake Orion\, 1095 Lapeer Road\, Lake Orion\, MI\, 48360\, United States
CATEGORIES:Lake Orion
ATTACH;FMTTYPE=image/jpeg:https://rebekahspureliving.com/wp-content/uploads/2024/09/Lake-Orion-Health-Flier.jpg
ORGANIZER;CN="Rebekah's Pure Living":MAILTO:rebekahspureliving@gmail.com
END:VEVENT
END:VCALENDAR