BEGIN:VCALENDAR
VERSION:2.0
PRODID:-//Rebekah&#039;s Health and Nutrition - ECPv6.15.20//NONSGML v1.0//EN
CALSCALE:GREGORIAN
METHOD:PUBLISH
X-ORIGINAL-URL:https://rebekahspureliving.com
X-WR-CALDESC:Events for Rebekah&#039;s Health and Nutrition
REFRESH-INTERVAL;VALUE=DURATION:PT1H
X-Robots-Tag:noindex
X-PUBLISHED-TTL:PT1H
BEGIN:VTIMEZONE
TZID:America/Detroit
BEGIN:DAYLIGHT
TZOFFSETFROM:-0500
TZOFFSETTO:-0400
TZNAME:EDT
DTSTART:20240310T070000
END:DAYLIGHT
BEGIN:STANDARD
TZOFFSETFROM:-0400
TZOFFSETTO:-0500
TZNAME:EST
DTSTART:20241103T060000
END:STANDARD
BEGIN:DAYLIGHT
TZOFFSETFROM:-0500
TZOFFSETTO:-0400
TZNAME:EDT
DTSTART:20250309T070000
END:DAYLIGHT
BEGIN:STANDARD
TZOFFSETFROM:-0400
TZOFFSETTO:-0500
TZNAME:EST
DTSTART:20251102T060000
END:STANDARD
BEGIN:DAYLIGHT
TZOFFSETFROM:-0500
TZOFFSETTO:-0400
TZNAME:EDT
DTSTART:20260308T070000
END:DAYLIGHT
BEGIN:STANDARD
TZOFFSETFROM:-0400
TZOFFSETTO:-0500
TZNAME:EST
DTSTART:20261101T060000
END:STANDARD
END:VTIMEZONE
BEGIN:VEVENT
DTSTART;TZID=America/Detroit:20250531T100000
DTEND;TZID=America/Detroit:20250531T113000
DTSTAMP:20260421T010630
CREATED:20250406T140604Z
LAST-MODIFIED:20250406T140745Z
UID:1476918-1748685600-1748691000@rebekahspureliving.com
SUMMARY:Women’s Health Workshop: Hormones
DESCRIPTION: Women’s Health Workshop: The Truth About Hormones & Bioidentical Therapy \nSaturday\, May 31st | 10:00–11:30 AM  Rebekah’s Health & Nutrition – 1095 S Lapeer Road\, Lake Orion\n\n\n About the Speaker:Laura Young\, FDN-P\, is a Functional Diagnostic Nutrition Practitioner and founder of Total Wellness Solutions. Her passion is educating women to take control of their health with the latest tools and science-based strategies.  Website: Total Wellness Solutions\nwww.totalwellnessolutions.com \n\n Seats are limited – call to reserve yours today!  248-929-8990\nBring your girlfriends\, your questions\, and your curiosity. You deserve to feel your absolute best—and this workshop is the perfect place to start!\n\n\nLadies\, you do not want to miss this! Join us for a powerful morning of education\, discussion\, and empowerment with Laura Young\, FDN-P\, as she dives into the latest research in women’s health and bioidentical hormone therapy.\nIn this transformational workshop\, Laura will:\n  Debunk the myths around hormone health Explore the history (and controversy) of hormone therapy Break down what really works according to today’s science Teach you how to balance your hormones naturally and effectively Leave you feeling empowered\, informed\, and ready to take control of your health journey\n\n Common Symptoms of Low Hormones:Fatigue or low energy\nMood swings or irritability\nHot flashes or night sweats\nWeight gain (especially around the belly)\nLow libido or sexual discomfort\nBrain fog or memory issues\nIrregular or painful periods\nInsomnia or difficulty sleeping\nAnxiety or depression\nThinning hair or dry skin\n\n Benefits of Bioidentical Hormones:Increased energy and vitality\nImproved sleep and mood\nHealthy metabolism and weight management\nBalanced emotions and clearer thinking\nEnhanced libido and sexual wellness\nRelief from hot flashes and night sweats\nStronger bones and heart health\nA renewed sense of confidence and joy\n\n\nBring your girlfriends\, your questions\, and your curiosity. You deserve to feel your absolute best—and this workshop is the perfect place to start!
URL:https://rebekahspureliving.com/event/womens-health-workshop-hormones/
LOCATION:Rebekah’s Health and Nutrition/Lake Orion\, 1095 Lapeer Road\, Lake Orion\, MI\, 48360\, United States
CATEGORIES:Lake Orion
ATTACH;FMTTYPE=image/jpeg:https://rebekahspureliving.com/wp-content/uploads/2025/04/488619424_550893297580316_6792249921412113318_n.jpg
ORGANIZER;CN="Rebekah's Pure Living":MAILTO:rebekahspureliving@gmail.com
END:VEVENT
END:VCALENDAR