BEGIN:VCALENDAR
VERSION:2.0
PRODID:-//Rebekah&#039;s Health and Nutrition - ECPv6.15.20//NONSGML v1.0//EN
CALSCALE:GREGORIAN
METHOD:PUBLISH
X-ORIGINAL-URL:https://rebekahspureliving.com
X-WR-CALDESC:Events for Rebekah&#039;s Health and Nutrition
REFRESH-INTERVAL;VALUE=DURATION:PT1H
X-Robots-Tag:noindex
X-PUBLISHED-TTL:PT1H
BEGIN:VTIMEZONE
TZID:UTC
BEGIN:STANDARD
TZOFFSETFROM:+0000
TZOFFSETTO:+0000
TZNAME:UTC
DTSTART:20240101T000000
END:STANDARD
END:VTIMEZONE
BEGIN:VTIMEZONE
TZID:America/Detroit
BEGIN:DAYLIGHT
TZOFFSETFROM:-0500
TZOFFSETTO:-0400
TZNAME:EDT
DTSTART:20240310T070000
END:DAYLIGHT
BEGIN:STANDARD
TZOFFSETFROM:-0400
TZOFFSETTO:-0500
TZNAME:EST
DTSTART:20241103T060000
END:STANDARD
BEGIN:DAYLIGHT
TZOFFSETFROM:-0500
TZOFFSETTO:-0400
TZNAME:EDT
DTSTART:20250309T070000
END:DAYLIGHT
BEGIN:STANDARD
TZOFFSETFROM:-0400
TZOFFSETTO:-0500
TZNAME:EST
DTSTART:20251102T060000
END:STANDARD
BEGIN:DAYLIGHT
TZOFFSETFROM:-0500
TZOFFSETTO:-0400
TZNAME:EDT
DTSTART:20260308T070000
END:DAYLIGHT
BEGIN:STANDARD
TZOFFSETFROM:-0400
TZOFFSETTO:-0500
TZNAME:EST
DTSTART:20261101T060000
END:STANDARD
END:VTIMEZONE
BEGIN:VEVENT
DTSTART;TZID=UTC:20250205T110000
DTEND;TZID=UTC:20250507T130000
DTSTAMP:20260420T204037
CREATED:20240722T030426Z
LAST-MODIFIED:20250205T164052Z
UID:1475785-1738753200-1746622800@rebekahspureliving.com
SUMMARY:Sourdough Sale!
DESCRIPTION:Eva’s Sourdough Pop-Up Event – Freshly Baked Just for You!\n\n\n\n\n📅 Join us Every Wednesday in Lapeer\n🕚 Time: 11 AM – 1 PM\n📍 Location: Rebekah’s Health & Nutrition – Lapeer\nAddress: 588 S Main St\, Lapeer\, MI 48446\n📞 Phone: 810-660-8585 \n🍞 Why Choose Eva’s Sourdough?\nEva’s sourdough bread is baked fresh the night before\, delivering unbeatable flavor\, freshness\, and quality. Here’s why sourdough deserves a spot on your table: \n\nEasier to Digest: The natural fermentation process reduces gluten\, making it easier on your stomach.\nNutrient-Rich: Packed with essential nutrients like B vitamins\, iron\, and magnesium for optimal health.\nSupports Gut Health: Boosts healthy gut bacteria through fermentation\, improving digestion.\nLow Glycemic Index: Helps manage blood sugar levels more effectively than traditional bread.\n\n✨ Preorder Your Loaves Today!\nReserve your freshly baked sourdough by: \n\nScanning the QR Code in-store\nOrdering online at: www.hotplate.com/lovejoybread\n\nDon’t miss out on this nutritious and delicious experience—grab your sourdough while it lasts! \n🔗 Experience the Joy of Sourdough:\nCome to Rebekah’s Health & Nutrition in Lapeer for a taste of Eva’s incredible sourdough bread. Whether you’re a long-time sourdough lover or a newcomer to its benefits\, you’ll leave with a smile—and a loaf! \n📢 Hashtags:\n#SourdoughPopUp #FreshBread #HealthyLiving #RebekahsHealthAndNutrition #GutHealth #SourdoughLover \nSee you this Wednesday for the ultimate bread experience!
URL:https://rebekahspureliving.com/event/sourdough-sale/
LOCATION:Rebekahs Health and Nutrition/Lapeer\, 588 S Main Street\, Lapeer\, MI\, 48446\, United States
CATEGORIES:Lapeer
ATTACH;FMTTYPE=image/png:https://rebekahspureliving.com/wp-content/uploads/2024/07/2-2.png
ORGANIZER;CN="Rebekah's Pure Living":MAILTO:rebekahspureliving@gmail.com
END:VEVENT
BEGIN:VEVENT
DTSTART;TZID=America/Detroit:20250322T120000
DTEND;TZID=America/Detroit:20250322T160000
DTSTAMP:20260420T204037
CREATED:20250113T220718Z
LAST-MODIFIED:20250113T220718Z
UID:1476537-1742644800-1742659200@rebekahspureliving.com
SUMMARY:Max Pulse Testing
DESCRIPTION:Comprehensive testing using cutting edge technology administered by Tamra Hartwig\, HHP- Certified Max Pulse technician Appointments available for testing at Rebekah’s Health and Nutrition Stores \nDates:\nFEB 15th (Saturday)12 pm-4pm 1095 S. Lapeer Rd. Lake Orion\, 48360 call (248)929-8990 \nFEB 22nd (Saturday) 12pm-4pm -252 Perry Rd. Grand Blanc\, 48439 call (810) 866-4642 \nMARCH 8th (Saturday) 12pm-4pm 7093 Dixie Hwy Clarkston\, 48346 call (248) 843-20 \nMARCH 22nd (Saturday) 12pm-4pm  588 S. Main St. Lapeer\, 48446 call (810) 660-8585 Times: 12PM-4PM \nCost : Wave Type & arterial health- $35 (testing takes 1 minute) Full cardio health assessment including Autonomic Nervous system-$65 (3 minute)  20 minute appointment total
URL:https://rebekahspureliving.com/event/max-pulse-testing-4/
LOCATION:Rebekahs Health and Nutrition/Lapeer\, 588 S Main Street\, Lapeer\, MI\, 48446\, United States
CATEGORIES:Lapeer
ATTACH;FMTTYPE=image/jpeg:https://rebekahspureliving.com/wp-content/uploads/2025/01/472798548_530759019981508_1660795027617705880_n.jpg
ORGANIZER;CN="Rebekah's Pure Living":MAILTO:rebekahspureliving@gmail.com
END:VEVENT
BEGIN:VEVENT
DTSTART;TZID=UTC:20250322T120000
DTEND;TZID=UTC:20250322T160000
DTSTAMP:20260420T204037
CREATED:20250114T002753Z
LAST-MODIFIED:20250316T105240Z
UID:1476522-1742644800-1742659200@rebekahspureliving.com
SUMMARY:Lapeer's Ultimate Health Fair
DESCRIPTION:Join Us for Lapeer’s Ultimate Health Fair– March 22\, 2025!\nLooking to embrace spring with a renewed focus on health and wellness? Don’t miss the Lapeer Spring Expo at Rebekah’s Health and Nutrition! Join us on Saturday\, March 22nd\, 2025\, from 12 PM to 4 PM\, for an afternoon of inspiration\, education\, and community connection. \nWhy Attend the Lapeer Spring Expo?\nThis exciting event is designed to celebrate the season with opportunities to learn\, connect\, and experience the best in holistic health and natural remedies. Whether you’re a wellness enthusiast or new to exploring alternative healing\, this event has something for everyone! \nHere’s what you can expect: \n\nFree Healthy Snacks: Enjoy nourishing treats while you explore.\nProduct Samples: Take home samples of our favorite wellness products.\nLive Demonstrations: Watch expert-led demos and learn practical health tips.\nGift Bag Raffles: Enter for a chance to win fabulous gift bags filled with health and wellness goodies.\nAnd So Much More!\n\nMeet the Healers and Experts\nWe’re thrilled to feature an incredible lineup of healers and experts who bring their unique talents to this year’s Expo: \n\nJessica Guibord – Reiki and energy healing (Peace of Love Healing).\nRamie Yelle– Acupuncture\nLiana – Massage and Reiki (Secret Space Travel).\nSue Novotney – Intuitive readings.\nAlana Broker\, Halo2- Chakra balancing bio mat and copper chakra balancing light. Iterrahertz wand and red light sessions.\nTamera- Max Pulse Cardiovascular Testing\nMark and Julie Falcher-Bio Feedback Energy Health Scans\nFOREVER BRACELETS– Rachele\nEva – Sourdough sale with Love\, Joy Bread – Experience the wholesome goodness of homemade sourdough.\nMark Spencer – Spencer’s Honey – Learn more about his passion for beekeeping and sample his delicious local honey.\n\nTeresa McQueen– LifeWave Energy Patches.\n\n\n\nRenee Sorgi– Free and Simple Foods /Clean\, allergy-friendly snacks\n\n\nJorge and Desire- Flora Coffee Bean LLC\nAlaina– Sprout Bake\nElizabeth- Solstice Soap Company\nVince– Garden of Life\nKate and Jake- Happy Apple Farms Jewelry\nEmerald Labs– Michele Hoagland\nMoonshadow – Pete LaDuke\n–\n\nEvent Details\nWhen: Saturday\, March 22\, 2025\nTime: 12 PM – 4 PM\nWhere: Rebekah’s Health and Nutrition\, 588 S Main Street\, Lapeer Location\nCost: FREE Admission! \nBring your friends and family to experience a day dedicated to wellness\, connection\, and community. Mark your calendars now and stay tuned for more details! \n\n\n\n 
URL:https://rebekahspureliving.com/event/lapeers-ultimae-health-fair/
LOCATION:Rebekahs Health and Nutrition/Lapeer\, 588 S Main Street\, Lapeer\, MI\, 48446\, United States
CATEGORIES:Lapeer
ATTACH;FMTTYPE=image/jpeg:https://rebekahspureliving.com/wp-content/uploads/2025/01/Lapeer-fair.jpg
ORGANIZER;CN="Rebekah's Pure Living":MAILTO:rebekahspureliving@gmail.com
END:VEVENT
BEGIN:VEVENT
DTSTART;TZID=America/Detroit:20250327T183000
DTEND;TZID=America/Detroit:20250327T203000
DTSTAMP:20260420T204037
CREATED:20250205T164827Z
LAST-MODIFIED:20250205T164827Z
UID:1476629-1743100200-1743107400@rebekahspureliving.com
SUMMARY:Sourdough in 4 Easy Steps
DESCRIPTION:Make your own sourdough bread\nTHURSDAY\, MARCH 27- At our Lapeer Location\nSourdough Bread Class – 6:30-8:30 pm. Join Alaina Campbell from Sprout Bake at Rebekah’s Health & Nutrition in Lapeer to learn how to make real sourdough bread in 4 Simple Steps! This beginner-friendly class includes a take-home sourdough starter\, all ingredients to make your first dough in class\, step-by-step written instructions\, video follow-up instructions\, and biweekly tips & recipes. $75. Register at SproutBake.com – Sourdough In Person Classes or call Alaina at 248-475-2256.\nFacebook/Instagram Post\n Sourdough Bread Class – March 27 at Rebekah’s Health & Nutrition! \nJoin us for a special hands-on class with Sprout Bake to learn how to make homemade sourdough bread in just 4 simple steps! This method is perfect for beginners—no complicated techniques\, no endless kneading\, just wholesome\, delicious bread made simple.\n What You’ll Get:\n Hands-on instruction from sourdough expert Alaina from Sprout Bake\n A sourdough starter to take home and keep baking\n A step-by-step written guide for easy reference\n A ready-to-bake dough so you can enjoy fresh bread at home\n Exclusive access to a private Sourdough Bread FB group for continued learning & support\n Video instruction follow-up to reinforce what you’ve learned\n Ongoing sourdough tips & recipes delivered every two weeks to your inbox\n Text reminders with next steps so you always know what to do!\n Rebekah’s Health & Nutrition – Lapeer\n Wednesday\, March 27\n Limited spots available—sign up now!\nDon’t miss this opportunity to learn how to bake your own nourishing\, gut-friendly sourdough bread! Reserve your spot today by visiting https://bit.ly/March27RebekahsLapeer or stopping by the store. \n#SourdoughMadeSimple #SproutBake #HealthyLiving #LearnToBake #GutHealth\n\nRegistration Link\nhttps://bit.ly/March27RebekahsLapeer\n\nQR Code
URL:https://rebekahspureliving.com/event/sourdough-in-4-easy-steps/
LOCATION:Rebekahs Health and Nutrition/Lapeer\, 588 S Main Street\, Lapeer\, MI\, 48446\, United States
CATEGORIES:Lapeer
ATTACH;FMTTYPE=image/jpeg:https://rebekahspureliving.com/wp-content/uploads/2025/01/473058029_1166027571519899_3517042225948341969_n.jpg
ORGANIZER;CN="Rebekah's Pure Living":MAILTO:rebekahspureliving@gmail.com
END:VEVENT
END:VCALENDAR