BEGIN:VCALENDAR
VERSION:2.0
PRODID:-//Rebekah&#039;s Health and Nutrition - ECPv6.15.20//NONSGML v1.0//EN
CALSCALE:GREGORIAN
METHOD:PUBLISH
X-ORIGINAL-URL:https://rebekahspureliving.com
X-WR-CALDESC:Events for Rebekah&#039;s Health and Nutrition
REFRESH-INTERVAL;VALUE=DURATION:PT1H
X-Robots-Tag:noindex
X-PUBLISHED-TTL:PT1H
BEGIN:VTIMEZONE
TZID:America/Detroit
BEGIN:DAYLIGHT
TZOFFSETFROM:-0500
TZOFFSETTO:-0400
TZNAME:EDT
DTSTART:20250309T070000
END:DAYLIGHT
BEGIN:STANDARD
TZOFFSETFROM:-0400
TZOFFSETTO:-0500
TZNAME:EST
DTSTART:20251102T060000
END:STANDARD
BEGIN:DAYLIGHT
TZOFFSETFROM:-0500
TZOFFSETTO:-0400
TZNAME:EDT
DTSTART:20260308T070000
END:DAYLIGHT
BEGIN:STANDARD
TZOFFSETFROM:-0400
TZOFFSETTO:-0500
TZNAME:EST
DTSTART:20261101T060000
END:STANDARD
BEGIN:DAYLIGHT
TZOFFSETFROM:-0500
TZOFFSETTO:-0400
TZNAME:EDT
DTSTART:20270314T070000
END:DAYLIGHT
BEGIN:STANDARD
TZOFFSETFROM:-0400
TZOFFSETTO:-0500
TZNAME:EST
DTSTART:20271107T060000
END:STANDARD
END:VTIMEZONE
BEGIN:VEVENT
DTSTART;TZID=America/Detroit:20260311T100000
DTEND;TZID=America/Detroit:20260311T150000
DTSTAMP:20260420T131452
CREATED:20260227T153911Z
LAST-MODIFIED:20260227T153911Z
UID:1478233-1773223200-1773241200@rebekahspureliving.com
SUMMARY:FREE Health Screening in Lapeer
DESCRIPTION:FREE Health Screening in Lapeer — Swan Chiropractic Wellness\nWednesday\, March 11\, 2026 | 10:00 AM – 3:00 PMLocation: Rebekah’s Health & Nutrition – Lapeer \nCurious what’s really behind your symptoms? Swan Chiropractic Wellness will be at our Lapeer store offering a FREE Health Screening—at no charge. \nThis screening is designed to help identify the source and possible cause of common concerns so you can better understand what your body may be asking for. With 45 years in practice\, Dr. Swan and his team have helped countless people improve function\, comfort\, and overall well-being—and they would love the opportunity to help you too. \nStop in\, get screened\, ask questions\, and see what steps may support your body in functioning at its best. \nContact Information\nSwan Chiropractic WellnessOffice: (810) 658-7926Email: swanchiro@gmail.comAddress: 1371 N. Belsay Rd\, Burton\, MI 48509Website: swanchiro.com
URL:https://rebekahspureliving.com/event/free-health-screening-in-lapeer/
LOCATION:Rebekahs Health and Nutrition/Lapeer\, 588 S Main Street\, Lapeer\, MI\, 48446\, United States
CATEGORIES:Lapeer
ORGANIZER;CN="Rebekah's Pure Living":MAILTO:rebekahspureliving@gmail.com
END:VEVENT
BEGIN:VEVENT
DTSTART;TZID=America/Detroit:20260311T100000
DTEND;TZID=America/Detroit:20260311T150000
DTSTAMP:20260420T131452
CREATED:20260308T232219Z
LAST-MODIFIED:20260308T232219Z
UID:1478250-1773223200-1773241200@rebekahspureliving.com
SUMMARY:Free Health Screening
DESCRIPTION:Free Health Screening with Swan Chiropractic Wellness \nJoin us for a Free Health Screening with Swan Chiropractic Wellness and discover possible causes behind common health concerns. With over 45 years of clinical experience\, their team has helped many people improve movement\, comfort\, and overall body function. \nDuring this complimentary screening\, the focus will be on identifying the source and cause of your symptoms and helping you understand ways to support better body function. \nWhether you are experiencing discomfort\, reduced mobility\, or simply want to learn more about your health\, this is a great opportunity to receive professional insight and guidance. \nEvent Details📅 Wednesday\, March 11⏰ 10:00 AM – 3:00 PM📍 Hosted in partnership with Swan Chiropractic Wellness \nSwan Chiropractic Wellness is located at:1371 North Belsay RoadBurton\, MI 48509 \nPhone: (810) 658-7926Website: www.swanchiro.com \nStop by during the event to take advantage of this free screening and learn how your body may function at its best. Walk-ins are welcome.
URL:https://rebekahspureliving.com/event/free-health-screening/
LOCATION:Rebekahs Health and Nutrition/Lapeer\, 588 S Main Street\, Lapeer\, MI\, 48446\, United States
CATEGORIES:Lapeer
ATTACH;FMTTYPE=image/jpeg:https://rebekahspureliving.com/wp-content/uploads/2026/03/swan-chiropractic.jpg
ORGANIZER;CN="Rebekah's Pure Living":MAILTO:rebekahspureliving@gmail.com
END:VEVENT
BEGIN:VEVENT
DTSTART;TZID=America/Detroit:20260319T120000
DTEND;TZID=America/Detroit:20260319T140000
DTSTAMP:20260420T131452
CREATED:20260227T234703Z
LAST-MODIFIED:20260227T234703Z
UID:1478236-1773921600-1773928800@rebekahspureliving.com
SUMMARY:Shockwave Therapy Pop-Up Clinic
DESCRIPTION:Revitalize & Recover: Shockwave Therapy Pop-Up Clinic\nJoin us for a special wellness event at our Lapeer location featuring Peak Performance Family Chiropractic and the powerful benefits of non-invasive Shockwave Therapy. \nIf you are dealing with chronic pain\, stubborn injuries\, or limited mobility\, this may be the solution your body has been waiting for. \nShockwave Therapy (ESWT) uses high-energy acoustic sound waves to penetrate deep into tissues\, stimulating your body’s natural healing response. This therapy is drug-free\, non-surgical\, and designed to help you return to the activities you love with less discomfort and improved function.  \nPeak Performance Family Chiropr… \nEvent Details\nDate: Thursday\, March 19\, 2026Time: 12:00 PM – 2:00 PMLocation:Rebekah’s Health & Nutrition Source588 S Main StLapeer\, MI 48446 \nBenefits of Shockwave Therapy\n• Helps accelerate healing by increasing blood flow and stimulating cell regeneration• Supports pain relief by reducing inflammation and calming pain receptors• Helps break down scar tissue and calcium deposits• Safe\, non-invasive alternative for chronic pain conditions \nShockwave therapy is commonly used for:\n• Plantar fasciitis• Tennis elbow• Shoulder pain• Chronic muscle tension• Stubborn soft tissue injuries  \nPeak Performance Family Chiropractor \nReady to Try It?\nReserve your 15-minute trial session \nBooking Fee: $25 (non-refundable)Required to secure your appointment. Limited spots are available. \nProvider Information\nPeak Performance Family Chiropractic📞 810-652-6434🌐 peakperformancefamilychiropractic.com \nDon’t wait to start feeling better — your body deserves support.
URL:https://rebekahspureliving.com/event/shockwave-therapy-pop-up-clinic/
LOCATION:Rebekahs Health and Nutrition/Lapeer\, 588 S Main Street\, Lapeer\, MI\, 48446\, United States
CATEGORIES:Lapeer
ATTACH;FMTTYPE=image/jpeg:https://rebekahspureliving.com/wp-content/uploads/2026/02/bdeb1493-245d-41e1-a71b-a4f33a5bbbce.jpg
ORGANIZER;CN="Rebekah's Pure Living":MAILTO:rebekahspureliving@gmail.com
END:VEVENT
BEGIN:VEVENT
DTSTART;TZID=America/Detroit:20260319T170000
DTEND;TZID=America/Detroit:20260319T180000
DTSTAMP:20260420T131452
CREATED:20260227T235137Z
LAST-MODIFIED:20260227T235137Z
UID:1478239-1773939600-1773943200@rebekahspureliving.com
SUMMARY:De-Stressing Your Body and Mind
DESCRIPTION:De-Stressing Your Body and Mind\nThis is a FREE Educational Wellness Class with Health Expert Aaron Wallace \nIf stress has been affecting your energy\, sleep\, mood\, or overall health\, this class is designed to help you reset and regain balance. \nJoin us for an engaging and informative session led by health expert Aaron Wallace\, where you’ll learn the science behind stress and practical strategies you can start using right away to support your body and mind. \nThis interactive class will focus on helping you better understand how stress impacts your health and what you can do to improve your resilience\, function\, and daily well-being. Whether you’re feeling overwhelmed\, fatigued\, or simply want to optimize your health\, this session offers tools you can apply immediately. \nWhat You’ll Learn\n• How stress affects the body and nervous system• Practical techniques to help lower stress naturally• Lifestyle strategies to support energy\, mood\, and recovery• Actionable steps to improve overall health and function \nAttendees will also receive exclusive discounts on supplement purchases during the event. \n\n“My stress levels are so much lower than I thought without medication!” — Kelly J. \n\nEvent Details\nLocation:Rebekah’s Health & Nutrition588 S Main StLapeer\, MI 48446 \nDate: Thursday\, March 19Time: 5:00 PM – 6:00 PM \nTake an hour for yourself and learn how to create a calmer\, healthier start to your spring. \nWe look forward to seeing you there. 💚
URL:https://rebekahspureliving.com/event/de-stressing-your-body-and-mind/
LOCATION:Rebekahs Health and Nutrition/Lapeer\, 588 S Main Street\, Lapeer\, MI\, 48446\, United States
CATEGORIES:Lapeer
ATTACH;FMTTYPE=image/jpeg:https://rebekahspureliving.com/wp-content/uploads/2026/02/aaron-detress.jpg
ORGANIZER;CN="Rebekah's Pure Living":MAILTO:rebekahspureliving@gmail.com
END:VEVENT
END:VCALENDAR