BEGIN:VCALENDAR
VERSION:2.0
PRODID:-//Rebekah&#039;s Health and Nutrition - ECPv6.15.20//NONSGML v1.0//EN
CALSCALE:GREGORIAN
METHOD:PUBLISH
X-WR-CALNAME:Rebekah&#039;s Health and Nutrition
X-ORIGINAL-URL:https://rebekahspureliving.com
X-WR-CALDESC:Events for Rebekah&#039;s Health and Nutrition
REFRESH-INTERVAL;VALUE=DURATION:PT1H
X-Robots-Tag:noindex
X-PUBLISHED-TTL:PT1H
BEGIN:VTIMEZONE
TZID:UTC
BEGIN:STANDARD
TZOFFSETFROM:+0000
TZOFFSETTO:+0000
TZNAME:UTC
DTSTART:20240101T000000
END:STANDARD
END:VTIMEZONE
BEGIN:VEVENT
DTSTART;TZID=UTC:20250205T110000
DTEND;TZID=UTC:20250507T130000
DTSTAMP:20260420T212213
CREATED:20240722T030426Z
LAST-MODIFIED:20250205T164052Z
UID:1475785-1738753200-1746622800@rebekahspureliving.com
SUMMARY:Sourdough Sale!
DESCRIPTION:Eva’s Sourdough Pop-Up Event – Freshly Baked Just for You!\n\n\n\n\n📅 Join us Every Wednesday in Lapeer\n🕚 Time: 11 AM – 1 PM\n📍 Location: Rebekah’s Health & Nutrition – Lapeer\nAddress: 588 S Main St\, Lapeer\, MI 48446\n📞 Phone: 810-660-8585 \n🍞 Why Choose Eva’s Sourdough?\nEva’s sourdough bread is baked fresh the night before\, delivering unbeatable flavor\, freshness\, and quality. Here’s why sourdough deserves a spot on your table: \n\nEasier to Digest: The natural fermentation process reduces gluten\, making it easier on your stomach.\nNutrient-Rich: Packed with essential nutrients like B vitamins\, iron\, and magnesium for optimal health.\nSupports Gut Health: Boosts healthy gut bacteria through fermentation\, improving digestion.\nLow Glycemic Index: Helps manage blood sugar levels more effectively than traditional bread.\n\n✨ Preorder Your Loaves Today!\nReserve your freshly baked sourdough by: \n\nScanning the QR Code in-store\nOrdering online at: www.hotplate.com/lovejoybread\n\nDon’t miss out on this nutritious and delicious experience—grab your sourdough while it lasts! \n🔗 Experience the Joy of Sourdough:\nCome to Rebekah’s Health & Nutrition in Lapeer for a taste of Eva’s incredible sourdough bread. Whether you’re a long-time sourdough lover or a newcomer to its benefits\, you’ll leave with a smile—and a loaf! \n📢 Hashtags:\n#SourdoughPopUp #FreshBread #HealthyLiving #RebekahsHealthAndNutrition #GutHealth #SourdoughLover \nSee you this Wednesday for the ultimate bread experience!
URL:https://rebekahspureliving.com/event/sourdough-sale/
LOCATION:Rebekahs Health and Nutrition/Lapeer\, 588 S Main Street\, Lapeer\, MI\, 48446\, United States
CATEGORIES:Lapeer
ATTACH;FMTTYPE=image/png:https://rebekahspureliving.com/wp-content/uploads/2024/07/2-2.png
ORGANIZER;CN="Rebekah's Pure Living":MAILTO:rebekahspureliving@gmail.com
END:VEVENT
END:VCALENDAR