BEGIN:VCALENDAR
VERSION:2.0
PRODID:-//Rebekah&#039;s Health and Nutrition - ECPv6.15.20//NONSGML v1.0//EN
CALSCALE:GREGORIAN
METHOD:PUBLISH
X-ORIGINAL-URL:https://rebekahspureliving.com
X-WR-CALDESC:Events for Rebekah&#039;s Health and Nutrition
REFRESH-INTERVAL;VALUE=DURATION:PT1H
X-Robots-Tag:noindex
X-PUBLISHED-TTL:PT1H
BEGIN:VTIMEZONE
TZID:America/Detroit
BEGIN:DAYLIGHT
TZOFFSETFROM:-0500
TZOFFSETTO:-0400
TZNAME:EDT
DTSTART:20250309T070000
END:DAYLIGHT
BEGIN:STANDARD
TZOFFSETFROM:-0400
TZOFFSETTO:-0500
TZNAME:EST
DTSTART:20251102T060000
END:STANDARD
BEGIN:DAYLIGHT
TZOFFSETFROM:-0500
TZOFFSETTO:-0400
TZNAME:EDT
DTSTART:20260308T070000
END:DAYLIGHT
BEGIN:STANDARD
TZOFFSETFROM:-0400
TZOFFSETTO:-0500
TZNAME:EST
DTSTART:20261101T060000
END:STANDARD
BEGIN:DAYLIGHT
TZOFFSETFROM:-0500
TZOFFSETTO:-0400
TZNAME:EDT
DTSTART:20270314T070000
END:DAYLIGHT
BEGIN:STANDARD
TZOFFSETFROM:-0400
TZOFFSETTO:-0500
TZNAME:EST
DTSTART:20271107T060000
END:STANDARD
END:VTIMEZONE
BEGIN:VEVENT
DTSTART;TZID=America/Detroit:20260513T100000
DTEND;TZID=America/Detroit:20260513T150000
DTSTAMP:20260425T090855
CREATED:20260227T153911Z
LAST-MODIFIED:20260424T135839Z
UID:1478233-1778666400-1778684400@rebekahspureliving.com
SUMMARY:FREE Health Screening in Lapeer
DESCRIPTION:FREE Health Screening in Lapeer — Swan Chiropractic Wellness\nWednesday\, May 13 | 10:00 AM – 3:00 PMLocation: Rebekah’s Health & Nutrition – Lapeer \nCurious what’s really behind your symptoms? Swan Chiropractic Wellness will be at our Lapeer store offering a FREE Health Screening—at no charge. \nThis screening is designed to help identify the source and possible cause of common concerns so you can better understand what your body may be asking for. With 45 years in practice\, Dr. Swan and his team have helped countless people improve function\, comfort\, and overall well-being—and they would love the opportunity to help you too. \nStop in\, get screened\, ask questions\, and see what steps may support your body in functioning at its best. \nContact Information\nSwan Chiropractic WellnessOffice: (810) 658-7926Email: swanchiro@gmail.comAddress: 1371 N. Belsay Rd\, Burton\, MI 48509Website: swanchiro.com
URL:https://rebekahspureliving.com/event/free-health-screening-in-lapeer/
LOCATION:Rebekahs Health and Nutrition/Lapeer\, 588 S Main Street\, Lapeer\, MI\, 48446\, United States
CATEGORIES:Lapeer
ATTACH;FMTTYPE=image/jpeg:https://rebekahspureliving.com/wp-content/uploads/2026/02/Swan-Chiropractic-Wellness-Office-810-658-7926_-Email-swanchiro@gmail.com-1371-North-Belsay-Road-Burton-MI-48509-www.swanchiro.com-HEALTH-SCREENING-At-No-Charge-Wednesday-March-11th-2026-10am-2.jpg
ORGANIZER;CN="Rebekah's Pure Living":MAILTO:rebekahspureliving@gmail.com
END:VEVENT
END:VCALENDAR