BEGIN:VCALENDAR
VERSION:2.0
PRODID:-//Rebekah&#039;s Health and Nutrition - ECPv6.15.20//NONSGML v1.0//EN
CALSCALE:GREGORIAN
METHOD:PUBLISH
X-WR-CALNAME:Rebekah&#039;s Health and Nutrition
X-ORIGINAL-URL:https://rebekahspureliving.com
X-WR-CALDESC:Events for Rebekah&#039;s Health and Nutrition
REFRESH-INTERVAL;VALUE=DURATION:PT1H
X-Robots-Tag:noindex
X-PUBLISHED-TTL:PT1H
BEGIN:VTIMEZONE
TZID:UTC
BEGIN:STANDARD
TZOFFSETFROM:+0000
TZOFFSETTO:+0000
TZNAME:UTC
DTSTART:20220101T000000
END:STANDARD
END:VTIMEZONE
BEGIN:VEVENT
DTSTART;TZID=UTC:20231017T173000
DTEND;TZID=UTC:20231017T183000
DTSTAMP:20260420T203943
CREATED:20230929T005019Z
LAST-MODIFIED:20230929T005019Z
UID:1475480-1697563800-1697567400@rebekahspureliving.com
SUMMARY:Detox and Immunity
DESCRIPTION:Detox and Immunity\nHow is detoxing and immunity connected?\nTopics of discussion:\n*The importance of detoxification daily\, seasonally and yearly\n*How to cleanse vs detox\n*Protocols for detoxing\n*Immune building herbs\n*Goal; to improve overall detoxification while building a strong immune system \n*Very important with those with autoimmune or compromised immune systems \nAbout Troy\nTroy Farwell is a Doctor of Natural Medicine\, Master Herbalist\, and Registered Ayurvedic Practitioner. He has been in private practice for over a decade and has seen thousands of clients with great success.\n• Doctor Of Natural Medicine (DNM)\n• M.S. Psychology (MS)\n• Registered Ayurvedic Practitioner (RAP)\n• Master Herbalist (MH)\n• Registered Ayurvedic Herbalist (RAH)\n• Ayurvedic Lifestyle Consultant\n• Holistic Health Practitioner (HHP)\n\nThis call will be held at our Lapeer store\n\nLearn more- click here
URL:https://rebekahspureliving.com/event/detox-and-immunity/
LOCATION:Rebekahs Health and Nutrition/Lapeer\, 588 S Main Street\, Lapeer\, MI\, 48446\, United States
CATEGORIES:Lapeer
ATTACH;FMTTYPE=:
ORGANIZER;CN="Rebekah's Pure Living":MAILTO:rebekahspureliving@gmail.com
END:VEVENT
BEGIN:VEVENT
DTSTART;TZID=UTC:20231018T093000
DTEND;TZID=UTC:20231018T140000
DTSTAMP:20260420T203943
CREATED:20230930T194300Z
LAST-MODIFIED:20230930T194300Z
UID:1475486-1697621400-1697637600@rebekahspureliving.com
SUMMARY:Flora Coffee Tasting
DESCRIPTION:🌿 Join us for an unforgettable Flora Coffee Tasting experience! ☕\n\n\n \n\n\nHello coffee lovers! We are Jeorge and Desiree\, the proud founders and creators of F L O R A Coffee. 🌱 \n\n\n \n\n\nOur journey starts all the way in Costa Rica\, where our coffee is meticulously handpicked from our very own farm. 🌍 What sets us apart? Well\, we do things differently. Our coffee beans are dried in a greenhouse\, with the coffee fruit still intact. 🍒 This unique process results in a high-energy\, mold-free coffee that’s unlike anything you’ve tasted here in the US.\n\n\n \n\n\nBut it’s not just about the coffee; it’s about the love and passion we pour into every cup. ❤️ Tomorrow\, we invite you to taste the difference\, to savor the care and dedication that goes into crafting each and every batch of Flora Coffee.\n\n\n \n\n\n✨ See you there! 🌿\n\n\n \n\n\nLapeer Location\n\n\n588 S Main St\, Lapeer\, Michigan 48446\n\n\nPhone: 810-660-8585\n\n\n \n\n\n#FloraCoffee #SpecialtyCoffee #CoffeeLovers #CoffeeTasting #GlenEllen #CostaRicanCoffee\n\n 
URL:https://rebekahspureliving.com/event/flora-coffee-tasting/
LOCATION:Rebekahs Health and Nutrition/Lapeer\, 588 S Main Street\, Lapeer\, MI\, 48446\, United States
CATEGORIES:Lapeer
ATTACH;FMTTYPE=:
ORGANIZER;CN="Rebekah's Pure Living":MAILTO:rebekahspureliving@gmail.com
END:VEVENT
BEGIN:VEVENT
DTSTART;TZID=UTC:20231022T150000
DTEND;TZID=UTC:20231022T160000
DTSTAMP:20260420T203943
CREATED:20230928T235349Z
LAST-MODIFIED:20230928T235349Z
UID:1475475-1697986800-1697990400@rebekahspureliving.com
SUMMARY:Eating For Health And Longevity
DESCRIPTION:Foods for Health and Longevity\n\nLearn how to identify healthy foods in the grocery store. (suggested apps to make reading labels easier) The Clean 15 and Dirty dozen\nHow to eat healthy on a budget\nSupplements I take and why\n\nAbout Karen Carley \nI have always been a food lover and very interested in health and overall wellness. I love to be helpful to people and felt using my passion for health is the best way to do that so I became a Certified Wellness Coach. I have had issues with anxiety\, depression \, and IBS Supplements and a healthy diet has helped me tremendously in feeling healthy and happy. \n  \nMore information at Link\n\nRebekahs Private Line products- Link\n 
URL:https://rebekahspureliving.com/event/eating-for-health-and-longevity/
LOCATION:Rebekah’s Health and Nutrition/Lake Orion\, 1095 Lapeer Road\, Lake Orion\, MI\, 48360\, United States
CATEGORIES:Lake Orion
ORGANIZER;CN="Rebekah's Pure Living":MAILTO:rebekahspureliving@gmail.com
END:VEVENT
END:VCALENDAR