BEGIN:VCALENDAR
VERSION:2.0
PRODID:-//Rebekah&#039;s Health and Nutrition - ECPv6.15.20//NONSGML v1.0//EN
CALSCALE:GREGORIAN
METHOD:PUBLISH
X-WR-CALNAME:Rebekah&#039;s Health and Nutrition
X-ORIGINAL-URL:https://rebekahspureliving.com
X-WR-CALDESC:Events for Rebekah&#039;s Health and Nutrition
REFRESH-INTERVAL;VALUE=DURATION:PT1H
X-Robots-Tag:noindex
X-PUBLISHED-TTL:PT1H
BEGIN:VTIMEZONE
TZID:UTC
BEGIN:STANDARD
TZOFFSETFROM:+0000
TZOFFSETTO:+0000
TZNAME:UTC
DTSTART:20230101T000000
END:STANDARD
END:VTIMEZONE
BEGIN:VEVENT
DTSTART;TZID=UTC:20240820T180000
DTEND;TZID=UTC:20240820T190000
DTSTAMP:20260420T020852
CREATED:20240820T004542Z
LAST-MODIFIED:20240820T005737Z
UID:1475980-1724176800-1724180400@rebekahspureliving.com
SUMMARY:Chronic Pain & Stress Management Class
DESCRIPTION:Aaron Wallace is an experienced Expert Science & Health Practitioner. He helps his clients heal the root of what’s causing them pain\, discomfort and dis-ease. In this class Aaron will educate on how to support your own personal healing through lifestyle changes and specific products that will support you in turning your life around! Come learn from the best. Get your questions ready! \nGrab yourself a friend and come join us.   Call  248-843-2011 \nClarkston Location\n7093 Dixie Hwy Clarkston\, Michigan 48346 \nCheck out our line of CBD products- https://rebekahspureliving.com/product-category/cbd/ \nFollow us on FB at- https://www.facebook.com/RebekahsMichigan/
URL:https://rebekahspureliving.com/event/chronic-pain-stress-management-class/
LOCATION:Rebekah’s Health and Nutrition/Clarkston\, 7093 Dixie Highway\, Clarkston\, MI\, 48346\, United States
CATEGORIES:Clarkston
ORGANIZER;CN="Rebekah's Pure Living":MAILTO:rebekahspureliving@gmail.com
END:VEVENT
END:VCALENDAR